Workbook

Sheet 物件内容入力
A1: 情報公開日 | C1: R8年1月9日
A2: 物件名 | C2: 吉田町片岡8期 | I2: フリガナ | K2: ヨシダチョウ カタオカ | T2: 赤文字 | U2: 販売資料作成者 担当事項
A3: 金額 | C3: 3240 | I3: 物件種類 | K3: 新築戸建 | R3: ドロップダウンリスト
A4: 土地 | C4: 194.16 | E4: ㎡ | F4: =ROUNDDOWN(C4*0.3025,2) -> 58.73 | H4: 坪 | I4: 建物(延床) | K4: 113.85 | M4: ㎡ | N4: =ROUNDDOWN(K4*0.3025,2) -> 34.43 | P4: 坪 | R4: 3LDK | S4: 平屋
A5: 間取り | C5: 5LDK | I5: 間取内訳 | K5: LDK16.8 洋7.3 洋5.3 洋5.3 洋4.5 洋4.5帖 | R5: 4LDK | S5: 2階
A6: 所在地 | C6: 榛原郡吉田町片岡字天神西2321番8 | I6: ナビ用住所 | K6: 榛原郡吉田町片岡2321-4付近 | R6: 5LDK | S6: 3階 | T6: 駅徒歩
A7: 最寄駅 | C7: 高速バス | E7: 吉田町役場 | G7: 450 | H7: m | I7: 徒歩・バス停 | K7: バス停まで徒歩6分 | T7: 121分
A8: 建築確認番号 | C8: 第2025確認建築静建住ま09726号 | I8: 地図URL | K8: https://maps.app.goo.gl/T45v1yXQti5Ueekf7 | S8: 側溝
A9: 土地権利 | C9: 所有権 | E9: 用途地域 | G9: 指定なし | I9: 都市計画 | K9: 非線引き | M9: 地目 | O9: 宅地 | R9: 指定なし | S9: 水路
A10: 建ぺい率 | C10: 80 | D10: % | E10: 容積率 | G10: 200 | H10: % | I10: 完成時期 | K10: R8年7月 | M10: 引渡し日 | O10: 即入居可 | R10: 一種低専 | S10: 浸透桝 | T10: ←確認申請書の工期より2か月後完成とする
A11: 駐車場 | C11: 3台以上可能 | E11: 進捗・現況 | G11: 完成済 | I11: 構造 | K11: 木造 | M11: 階数 | O11: 2階 | R11: 二種低専
A12: 飲用水 | C12: 上水道 | E12: 電気 | G12: 中部電力 | I12: ガス | K12: オール電化 | M12: 雨水 | O12: 側溝 | R12: 一種中高専 | S12: 建築中
A13: 汚水 | C13: 下水道 | R13: 二種中高専 | S13: 完成済
A14: 接道状況1 | C14: 南側 公道5.7ｍに接道16.7ｍ | I14: 接道状況2 | K14: 西側 公道12ｍに接道11.8ｍ | R14: 一種住居
A15: 法令上の制限 | C15: 法第22条区域、下水道処理区域、宅地造成及び特定盛土等規制法、水防法、文化財保護法 | R15: 二種住居 | S15: 即入居可
A16: 保育園 | C16: さゆり保育園 | H16: 1.1km | I16: 車で3分 | R16: 準住居
A17: 幼稚園 | C17: さくら保育園 | H17: 1.2km | I17: 車で3分 | R17: 近隣商業
A18: 小学校 | C18: 中央小学校 | H18: 1.4km | I18: 徒歩20分 | R18: 商業 | S18: 売主
A19: 中学校 | C19: 吉田中学校 | H19: 700ｍ | I19: 徒歩10分 | R19: 準工業 | S19: 専任媒介
A20: スーパー | C20: KOマート吉田店 | H20: 190ｍ | I20: 徒歩3分 | R20: 工業
A21: コンビニ | C21: ローソン 吉田町店 | H21: 550ｍ | I21: 徒歩8分 | R21: 工業専用
A22: 病院 | C22: 榛原総合病院 | H22: 2.5km | I22: 車で6分
A23: 公園 | C23: 中央児童館 | H23: 1.8km | I23: 車で4分 | R23: 市街化区域
A24: 備考1 | C24: 東名高速道路 吉田インター 2.9km 車で6分 | R24: 市街化調整区域
A25: 備考2 | C25: 吉田町役場 550ｍ 車で3分 | R25: 非線引き
A26: 備考3 | R26: 宅地
A27: 建物オススメ1 | R27: 畑
A28: 建物オススメ2 | R28: 田
A29: 建物オススメ3 | R29: 山林
A30: 建物オススメ4 | R30: その他
A31: 庭・外部１
A32: 庭・外部２
A33: 庭・外部３ | R33: 下水道
A34: 庭・外部４ | R34: 浄化槽

Sheet ファクトシート
AL2: 種 目 | AN2: =物件内容入力!K3 -> 新築戸建
AL5: 物件名 | AN5: =物件内容入力!K2 -> ヨシダチョウ カタオカ
AN6: =物件内容入力!C2 -> 吉田町片岡8期
AL8: タイプ | AN8: =物件内容入力!C5 -> 5LDK
AL10: 価 格 | AN10: =物件内容入力!C3 -> 3240
AL14: 所在地(地番表示） | AP14: =物件内容入力!C6 -> 榛原郡吉田町片岡字天神西2321番8
AL16: ナビ用住所 | AP16: =物件内容入力!K6 -> 榛原郡吉田町片岡2321-4付近
AL18: 交 通 | AN18: =物件内容入力!C7 -> 高速バス | AR18: =物件内容入力!E7 -> 吉田町役場 | AV18: =IF(物件内容入力!G7="","",物件内容入力!G7) -> 450 | AY18: =物件内容入力!H7 -> m
AN20: =IF(物件内容入力!K7="","",物件内容入力!K7) -> バス停まで徒歩6分
AL22: 土 地 | AN22: =物件内容入力!C4 -> 194.16 | AS22: ㎡ | AT22: =物件内容入力!F4 -> 58.73 | AY22: 坪
AL24: 建 物 | AN24: =物件内容入力!K4 -> 113.85 | AS24: ㎡ | AT24: =物件内容入力!N4 -> 34.43 | AY24: 坪
AL26: 構 造 | AN26: =物件内容入力!K11 -> 木造 | AT26: =物件内容入力!O11 -> 2階
AL28: 間 取 | AN28: =IF(物件内容入力!K5=0,"",物件内容入力!K5) -> LDK16.8 洋7.3 洋5.3 洋5.3 洋4.5 洋4.5帖
AL30: 土地権利 | AN30: =物件内容入力!C9 -> 所有権 | AS30: 地目 | AU30: =物件内容入力!O9 -> 宅地
AL31: 都市計画 | AN31: =物件内容入力!K9 -> 非線引き | AS31: 用途地域 | AU31: =物件内容入力!G9 -> 指定なし
AL32: 建ぺい率 | AN32: =物件内容入力!C10 -> 80 | AR32: ％ | AS32: 容積率 | AU32: =物件内容入力!G10 -> 200 | AY32: ％
AL33: 建築確認番号 | AO33: =物件内容入力!C8 -> 第2025確認建築静建住ま09726号
AL34: 他の法令上の制限 | AN34: =IF(物件内容入力!C15=0,"",物件内容入力!C15) -> 法第22条区域、下水道処理区域、宅地造成及び特定盛土等規制法、水防法、文化財保護法
AL36: 完成時期 | AN36: =物件内容入力!K10 -> R8年7月 | AS36: 駐車場 | AU36: =物件内容入力!C11 -> 3台以上可能
AL37: 現 況 | AN37: =物件内容入力!G11 -> 完成済 | AS37: 引 渡 日 | AU37: =物件内容入力!O10 -> 即入居可
AL38: 接道状況 | AN38: =物件内容入力!C14 -> 南側 公道5.7ｍに接道16.7ｍ
AN39: =IF(物件内容入力!K14=0,"",物件内容入力!K14) -> 西側 公道12ｍに接道11.8ｍ
AL40: 設 備 | AN40: =物件内容入力!C12 -> 上水道 | AR40: =物件内容入力!C13 -> 下水道 | AV40: =物件内容入力!K12 -> オール電化
AN41: =物件内容入力!G12 -> 中部電力 | AR41: 側溝
AL42: 周 辺 | AN42: =IF(物件内容入力!C18=0,"",物件内容入力!C18) -> 中央小学校 | AW42: =物件内容入力!H18 -> 1.4km
AN43: =IF(物件内容入力!C19=0,"",物件内容入力!C19) -> 吉田中学校 | AW43: =物件内容入力!H19 -> 700ｍ
AN44: =IF(物件内容入力!C20=0,"",物件内容入力!C20) -> KOマート吉田店 | AW44: =物件内容入力!H20 -> 190ｍ
AH47: 客付け会社様へ | AM47: 担当 | AQ47: ■手数料 | AU47: ： | AV47: 3％＋6万＋税 | BA47: ■手数料 | BE47: ： | BF47: 3％＋6万＋税
AH49: 広告掲載不可 | AQ49: ■取引態様 | AU49: ： 専任媒介 O | AV49: 専任媒介
AQ51: ■情報公開日 | AU51: ： 専任媒介 O | AV51: =物件内容入力!C1 -> R8年1月9日

Sheet Sheet1
